BEGIN:VCALENDAR
VERSION:2.0
PRODID:-//Sydenham Field Naturalists - ECPv6.15.20//NONSGML v1.0//EN
CALSCALE:GREGORIAN
METHOD:PUBLISH
X-ORIGINAL-URL:https://sydenhamfieldnaturalists.ca
X-WR-CALDESC:Events for Sydenham Field Naturalists
REFRESH-INTERVAL;VALUE=DURATION:PT1H
X-Robots-Tag:noindex
X-PUBLISHED-TTL:PT1H
BEGIN:VTIMEZONE
TZID:America/Toronto
BEGIN:DAYLIGHT
TZOFFSETFROM:-0500
TZOFFSETTO:-0400
TZNAME:EDT
DTSTART:20170312T070000
END:DAYLIGHT
BEGIN:STANDARD
TZOFFSETFROM:-0400
TZOFFSETTO:-0500
TZNAME:EST
DTSTART:20171105T060000
END:STANDARD
BEGIN:DAYLIGHT
TZOFFSETFROM:-0500
TZOFFSETTO:-0400
TZNAME:EDT
DTSTART:20180311T070000
END:DAYLIGHT
BEGIN:STANDARD
TZOFFSETFROM:-0400
TZOFFSETTO:-0500
TZNAME:EST
DTSTART:20181104T060000
END:STANDARD
BEGIN:DAYLIGHT
TZOFFSETFROM:-0500
TZOFFSETTO:-0400
TZNAME:EDT
DTSTART:20190310T070000
END:DAYLIGHT
BEGIN:STANDARD
TZOFFSETFROM:-0400
TZOFFSETTO:-0500
TZNAME:EST
DTSTART:20191103T060000
END:STANDARD
BEGIN:DAYLIGHT
TZOFFSETFROM:-0500
TZOFFSETTO:-0400
TZNAME:EDT
DTSTART:20200308T070000
END:DAYLIGHT
BEGIN:STANDARD
TZOFFSETFROM:-0400
TZOFFSETTO:-0500
TZNAME:EST
DTSTART:20201101T060000
END:STANDARD
END:VTIMEZONE
BEGIN:VEVENT
DTSTART;TZID=America/Toronto:20190505T140000
DTEND;TZID=America/Toronto:20190505T160000
DTSTAMP:20260421T120404
CREATED:20180914T012345Z
LAST-MODIFIED:20190430T232135Z
UID:1432-1557064800-1557072000@sydenhamfieldnaturalists.ca
SUMMARY:Fairbanks Woods
DESCRIPTION:Enjoy a spring walk to view Marsh Marigolds and other wildflowers. Meet at 2 pm at the corner of Aberfeldy Line and Kelly Road\, just east from Hwy 21. Aberfeldy Line is between Edys Mills and Oil Springs.\nInquiries: Larry Cornelis 519-330-8981
URL:https://sydenhamfieldnaturalists.ca/event/fairbanks-woods/
LOCATION:Fairbanks Woods\, 4637 Aberfeldy Line\, Oil Springs\, Ontario\, Canada
ATTACH;FMTTYPE=image/jpeg:https://sydenhamfieldnaturalists.ca/wp-content/uploads/2019/01/DSC_0508.jpg
END:VEVENT
BEGIN:VEVENT
DTSTART;TZID=America/Toronto:20190426T190000
DTEND;TZID=America/Toronto:20190426T203000
DTSTAMP:20260421T120404
CREATED:20190104T172108Z
LAST-MODIFIED:20190425T021112Z
UID:1499-1556305200-1556310600@sydenhamfieldnaturalists.ca
SUMMARY:Nature in Chatham-Kent Winter Guest Speaker Series
DESCRIPTION:Join in with our 2019 Winter Guest Speaker Series being held at Chatham Branch Meeting Room\, Chatham-Kent Public Library. \n 
URL:https://sydenhamfieldnaturalists.ca/event/nature-in-chatham-kent-winter-guest-speaker-series/
LOCATION:Chatham-Kent Public Library\, 120 Queen St\, Chatham\, ON\, N7M 2G6\, Canada
ATTACH;FMTTYPE=image/png:https://sydenhamfieldnaturalists.ca/wp-content/uploads/2019/01/Library-Series2019.png
END:VEVENT
BEGIN:VEVENT
DTSTART;TZID=America/Toronto:20190420T100000
DTEND;TZID=America/Toronto:20190420T130000
DTSTAMP:20260421T120404
CREATED:20180914T010700Z
LAST-MODIFIED:20190417T014737Z
UID:1429-1555754400-1555765200@sydenhamfieldnaturalists.ca
SUMMARY:Managed Forest In All Its Splendor
DESCRIPTION:Meet at 10 am southeast of Moraviantown on Selton Line\, between Duart and Little John. The property we are touring is just east of Little John on the south side of Selton Ln.  Rick Wilkins is opening his 40 acres property for a tour of this managed forest. Using good forestry practice\, Rick has increased the woodlot diversity to over forty tree species and a vast array of Carolinian wildflowers. Pack a lunch if you wish.
URL:https://sydenhamfieldnaturalists.ca/event/managed-forest-in-all-its-splendor/
LOCATION:Wilkins Property\, 15060 Selton Line\, Bothwell\, On\, N0P 1C0\, Canada
ATTACH;FMTTYPE=image/jpeg:https://sydenhamfieldnaturalists.ca/wp-content/uploads/2019/04/Wilkins.jpg
END:VEVENT
BEGIN:VEVENT
DTSTART;TZID=America/Toronto:20190403T180000
DTEND;TZID=America/Toronto:20190403T213000
DTSTAMP:20260421T120404
CREATED:20180914T020547Z
LAST-MODIFIED:20190228T160036Z
UID:1453-1554314400-1554327000@sydenhamfieldnaturalists.ca
SUMMARY:Annual Dinner\, Country View Golf Course
DESCRIPTION:Doors open 6 pm. Buffet dinner 6:30 pm\nTickets in advance only.\nSturgeon of the Great Lakes\nGuest Speaker – Kathy Johnson\nHear of the oldest and largest fish of the Great Lakes and their fascinating life. Kathy and her husband are professional divers and she will present some fantastic underwater video of Lake Sturgeon.\nContact: Larry 519-330-8981 or email larry.cornelis@gmail.com to purchase tickets \n \n  \n  \n  \n 
URL:https://sydenhamfieldnaturalists.ca/event/annual-dinner-country-view-golf-course/
LOCATION:Country View Golf Course\, 25393 St Clair Rd\, Dover Centre\, On\, N0P 1L0\, Canada
ATTACH;FMTTYPE=image/png:https://sydenhamfieldnaturalists.ca/wp-content/uploads/2019/02/Banquet-Flyer2019-e1551368156267.png
END:VEVENT
BEGIN:VEVENT
DTSTART;TZID=America/Toronto:20190306T193000
DTEND;TZID=America/Toronto:20190306T213000
DTSTAMP:20260421T120404
CREATED:20180914T020202Z
LAST-MODIFIED:20190304T005647Z
UID:1451-1551900600-1551907800@sydenhamfieldnaturalists.ca
SUMMARY:Amateur Observations by a Birding Addict
DESCRIPTION:Many things have changed during 30 years of birding in Lambton County. Some changes are definitely negative while some are both surprising and positive at the same time. When we look hard enough\, there is some good news out there. Join us as Deryl Nethercott shares some entertaining birding stories. \nHow Geocaching Helped Us Find a Piping Plover \nOur love for birding and photography has taken us to many locations in Ontario and beyond.  In the past few years\, we have added Geocaching to the mix and it has provided us with the opportunity to make some exciting birding finds\, including the Endangered Piping Plover. \n 
URL:https://sydenhamfieldnaturalists.ca/event/dragonflies/
LOCATION:Wallaceburg Municipal Service Centre\, 786 Dufferein Ave\, Wallaceburg\, Ontario\, N8A 2V3\, Canada
ATTACH;FMTTYPE=image/jpeg:https://sydenhamfieldnaturalists.ca/wp-content/uploads/2019/03/6.-piping.jpg
END:VEVENT
BEGIN:VEVENT
DTSTART;TZID=America/Toronto:20190220T193000
DTEND;TZID=America/Toronto:20190220T210000
DTSTAMP:20260421T120404
CREATED:20180914T020022Z
LAST-MODIFIED:20190204T204149Z
UID:1449-1550691000-1550696400@sydenhamfieldnaturalists.ca
SUMMARY:The Peruvian Amazon
DESCRIPTION:Please note change of date to Feb 20 due to construction at Wallaceburg Civic Centre. \nLet’s journey to eastern Peru and the upper region of the Amazon Basin. This river even in its upper reaches is huge\, magnificent and largely pristine. We will examine the diversity of its wildlife and the uniqueness of its scattered river dwellers.
URL:https://sydenhamfieldnaturalists.ca/event/the-peruvian-amazon/
LOCATION:Wallaceburg Municipal Service Centre\, 786 Dufferein Ave\, Wallaceburg\, Ontario\, N8A 2V3\, Canada
ATTACH;FMTTYPE=image/jpeg:https://sydenhamfieldnaturalists.ca/wp-content/uploads/2019/02/Peru_ManuNationalPark-e1549312870575.jpg
END:VEVENT
BEGIN:VEVENT
DTSTART;TZID=America/Toronto:20190127T100000
DTEND;TZID=America/Toronto:20190127T130000
DTSTAMP:20260421T120404
CREATED:20180914T005945Z
LAST-MODIFIED:20180914T005945Z
UID:1427-1548583200-1548594000@sydenhamfieldnaturalists.ca
SUMMARY:Bickford Oak Woods Winter Walk
DESCRIPTION:Weather permitting\, meet at 10 am at the corner of Hwy 40 and Bickford Line. Clean out and repair wood duck nesting boxes. See a beaver lodge while hiking through Bickford at its wintery best. Bring the family\, pack a lunch. Hot chocolate and cookies to follow.
URL:https://sydenhamfieldnaturalists.ca/event/bickford-oak-woods-winter-walk-3/
LOCATION:Bickford Oak Woods\, 701 Bickford Line\, Sombra\, Ontario\, N0P 2H0\, Canada
ATTACH;FMTTYPE=image/png:https://sydenhamfieldnaturalists.ca/wp-content/uploads/2017/09/bickford-400px.png
END:VEVENT
BEGIN:VEVENT
DTSTART;TZID=America/Toronto:20190102T193000
DTEND;TZID=America/Toronto:20190102T213000
DTSTAMP:20260421T120404
CREATED:20180914T015905Z
LAST-MODIFIED:20180915T014606Z
UID:1447-1546457400-1546464600@sydenhamfieldnaturalists.ca
SUMMARY:Members' Night
DESCRIPTION:All SFN members are welcome to share their nature-related pictures\, items and stories in brief presentations. Contact Tom Chatterton 519-627-2986.
URL:https://sydenhamfieldnaturalists.ca/event/members-night-3/
LOCATION:Wallaceburg Municipal Service Centre\, 786 Dufferein Ave\, Wallaceburg\, Ontario\, N8A 2V3\, Canada
ATTACH;FMTTYPE=image/png:https://sydenhamfieldnaturalists.ca/wp-content/uploads/2017/09/members2-400px.png
END:VEVENT
BEGIN:VEVENT
DTSTART;TZID=America/Toronto:20181205T193000
DTEND;TZID=America/Toronto:20181205T213000
DTSTAMP:20260421T120404
CREATED:20180914T015733Z
LAST-MODIFIED:20180925T112727Z
UID:1445-1544038200-1544045400@sydenhamfieldnaturalists.ca
SUMMARY:Lower Thames Valley Conservation Authority
DESCRIPTION:Amanda Blain will be discussing the role of the conservation authority and how landowners can help the environment through a variety of natural restoration projects.
URL:https://sydenhamfieldnaturalists.ca/event/lower-thames-valley-conservation-authority/
LOCATION:Wallaceburg Municipal Service Centre\, 786 Dufferein Ave\, Wallaceburg\, Ontario\, N8A 2V3\, Canada
ATTACH;FMTTYPE=image/png:https://sydenhamfieldnaturalists.ca/wp-content/uploads/2018/09/ltvca-400px.png
END:VEVENT
BEGIN:VEVENT
DTSTART;TZID=America/Toronto:20181107T193000
DTEND;TZID=America/Toronto:20181107T213000
DTSTAMP:20260421T120404
CREATED:20180914T015615Z
LAST-MODIFIED:20180915T013543Z
UID:1443-1541619000-1541626200@sydenhamfieldnaturalists.ca
SUMMARY:Ojibway Prairie Complex
DESCRIPTION:Jessica Middleton and Jennifer Nantais: Wetlands\, forest\, savanna and prairie provide habitat for a great number of rare plants\, insects\, reptiles\, birds and mammals often found nowhere else in Canada.
URL:https://sydenhamfieldnaturalists.ca/event/ojibway-prairie-complex/
LOCATION:Wallaceburg Municipal Service Centre\, 786 Dufferein Ave\, Wallaceburg\, Ontario\, N8A 2V3\, Canada
ATTACH;FMTTYPE=image/png:https://sydenhamfieldnaturalists.ca/wp-content/uploads/2018/09/ojibway-400px.png
END:VEVENT
BEGIN:VEVENT
DTSTART;TZID=America/Toronto:20181103T140000
DTEND;TZID=America/Toronto:20181103T170000
DTSTAMP:20260421T120404
CREATED:20180914T021657Z
LAST-MODIFIED:20180914T021959Z
UID:1461-1541253600-1541264400@sydenhamfieldnaturalists.ca
SUMMARY:Tree Identification Walk
DESCRIPTION:Meet at 2 pm at Wallaceburg Sycamore Woods. Join Larry to learn about the different tree species growing here at WSW. With trees bare but leaves still intact lying on the ground\, this is the perfect time of year to learn about tree identification. WSW has a great variety of trees for this outing. Enter from Maplewood Crescent.\nLeader: Larry Cornelis 519-626-9591
URL:https://sydenhamfieldnaturalists.ca/event/tree-identification-walk/
LOCATION:Wallaceburg Sycamore Woods\, Maplewood Cres\, Wallaceburg\, Ontario\, Canada
ATTACH;FMTTYPE=image/png:https://sydenhamfieldnaturalists.ca/wp-content/uploads/2017/09/tree-400px.png
END:VEVENT
BEGIN:VEVENT
DTSTART;TZID=America/Toronto:20181021T140000
DTEND;TZID=America/Toronto:20181021T160000
DTSTAMP:20260421T120404
CREATED:20180914T021426Z
LAST-MODIFIED:20181018T232111Z
UID:1458-1540130400-1540137600@sydenhamfieldnaturalists.ca
SUMMARY:Reid Conservation Area
DESCRIPTION:Meet at 2 pm at the Reid Conservation Area south of the Darcy McKeough Dam on Duthill Road between Kerr Line and Tulloch Line. Explore this 170 acre protected property that was donated to St Clair Conservation Area. Join us to enjoy a fall walk in this deciduous forest and along the Sydenham River.
URL:https://sydenhamfieldnaturalists.ca/event/reid-conservation-area/
LOCATION:Reid Conservation Area\, 601 Duthill Rd\, Wallaceburg\, Ontario\, Canada
ATTACH;FMTTYPE=image/png:https://sydenhamfieldnaturalists.ca/wp-content/uploads/2018/09/reid-conservation-400px.png
END:VEVENT
BEGIN:VEVENT
DTSTART;TZID=America/Toronto:20181003T193000
DTEND;TZID=America/Toronto:20181003T213000
DTSTAMP:20260421T120404
CREATED:20180914T015502Z
LAST-MODIFIED:20180915T015314Z
UID:1441-1538595000-1538602200@sydenhamfieldnaturalists.ca
SUMMARY:Sydenham River Nature Reserve
DESCRIPTION:Our season starts with guest speakers from Ontario Nature. They will share the results of surveys and inventories at the Sydenham River Nature Reserve. Learn about the rare and endangered species living at this amazing ecological gem south of Alvinston that the SFN was instrumental in protecting.
URL:https://sydenhamfieldnaturalists.ca/event/sydenham-river-nature-reserve-2/
LOCATION:Wallaceburg Municipal Service Centre\, 786 Dufferein Ave\, Wallaceburg\, Ontario\, N8A 2V3\, Canada
ATTACH;FMTTYPE=image/png:https://sydenhamfieldnaturalists.ca/wp-content/uploads/2018/09/sydenham-400px.png
END:VEVENT
BEGIN:VEVENT
DTSTART;TZID=America/Toronto:20180922T100000
DTEND;TZID=America/Toronto:20180922T130000
DTSTAMP:20260421T120404
CREATED:20180914T021004Z
LAST-MODIFIED:20180925T111919Z
UID:1455-1537610400-1537621200@sydenhamfieldnaturalists.ca
SUMMARY:Wardsville Woods
DESCRIPTION:We start our new season with a tour of Wardsville Woods at 10 am at 1632 Longwoods Road. Wardsville Woods is a 50 acre tract located in the Skunk’s Misery Natural Area and is a great mix of upland\, slope\, and floodplain forest. This is an excellent place to see a wide representation of Carolinian trees including the Tulip and Sassafras trees.
URL:https://sydenhamfieldnaturalists.ca/event/wardsville-woods/
LOCATION:Wardsville Woods\, 1632 Longwoods Road\, Wardsville\, Ontario\, Canada
ATTACH;FMTTYPE=image/png:https://sydenhamfieldnaturalists.ca/wp-content/uploads/2018/09/wardsville-woods-400px.png
END:VEVENT
BEGIN:VEVENT
DTSTART;TZID=America/Toronto:20180725T190000
DTEND;TZID=America/Toronto:20180725T203000
DTSTAMP:20260421T120404
CREATED:20170901T121912Z
LAST-MODIFIED:20170909T191512Z
UID:1028-1532545200-1532550600@sydenhamfieldnaturalists.ca
SUMMARY:Naturalized Gardens Tour - Night 3
DESCRIPTION:Naturalized Gardens Tour – Wednesdays\, July 11\, 18 and 25\, 2018\nHere is an opportunity to visit three ecologically responsible gardens that are designed with native plant species to attract and benefit wildlife including birds\, butterflies and other beneficial pollinators. Meet the gardeners and hear first hand info and stories about their gardens. All dates – 7:00 pm \nNight 3 – July 25\, 369 University Ave\, Wallaceburg
URL:https://sydenhamfieldnaturalists.ca/event/naturalized-gardens-tour-night-3/
LOCATION:University Ave\, Wallaceburg\, 369 University Ave\, Wallaceburg\, On\, N8A 4A4\, Canada
ATTACH;FMTTYPE=image/png:https://sydenhamfieldnaturalists.ca/wp-content/uploads/2017/09/gardennight3.png
END:VEVENT
BEGIN:VEVENT
DTSTART;TZID=America/Toronto:20180718T190000
DTEND;TZID=America/Toronto:20180718T203000
DTSTAMP:20260421T120404
CREATED:20170901T121705Z
LAST-MODIFIED:20170909T191540Z
UID:1025-1531940400-1531945800@sydenhamfieldnaturalists.ca
SUMMARY:Naturalized Gardens Tour - Night 2
DESCRIPTION:Naturalized Gardens Tour – Wednesdays\, July 11\, 18 and 25\, 2018\nHere is an opportunity to visit three ecologically responsible gardens that are designed with native plant species to attract and benefit wildlife including birds\, butterflies and other beneficial pollinators. Meet the gardeners and hear first hand info and stories about their gardens. All dates – 7:00 pm \nNight 2 – July 18\, 8589 North River Line\, east of Wallaceburg\, or turn south off Hwy 78 at Brigden Side Road\, first house
URL:https://sydenhamfieldnaturalists.ca/event/naturalized-gardens-tour-night-2/
LOCATION:North River Line\, Wallaceburg\, 8589 North River Line\, Wallaceburg\, On\, N8A 4L1\, Canada
ATTACH;FMTTYPE=image/png:https://sydenhamfieldnaturalists.ca/wp-content/uploads/2017/09/gardennight2.png
END:VEVENT
BEGIN:VEVENT
DTSTART;TZID=America/Toronto:20180711T190000
DTEND;TZID=America/Toronto:20180711T203000
DTSTAMP:20260421T120404
CREATED:20170901T121445Z
LAST-MODIFIED:20170909T191609Z
UID:1022-1531335600-1531341000@sydenhamfieldnaturalists.ca
SUMMARY:Naturalized Gardens Tour - Night 1
DESCRIPTION:Naturalized Gardens Tour – Wednesdays\, July 11\, 18 and 25\, 2018\nHere is an opportunity to visit three ecologically responsible gardens that are designed with native plant species to attract and benefit wildlife including birds\, butterflies and other beneficial pollinators. Meet the gardeners and hear first hand info and stories about their gardens. All dates – 7:00 pm \nNight 1 – July 11\, 407 Dora Ave\, Wallaceburg
URL:https://sydenhamfieldnaturalists.ca/event/naturalized-gardens-tour-night-1/
LOCATION:Dora Ave\, Wallaceburg\, 407 Dora Ave\, Wallaceburg\, On\, N8A 2K2\, Canada
ATTACH;FMTTYPE=image/png:https://sydenhamfieldnaturalists.ca/wp-content/uploads/2017/09/gardennight1.png
END:VEVENT
BEGIN:VEVENT
DTSTART;TZID=America/Toronto:20180609T100000
DTEND;TZID=America/Toronto:20180609T130000
DTSTAMP:20260421T120404
CREATED:20170901T121105Z
LAST-MODIFIED:20180612T030605Z
UID:1019-1528538400-1528549200@sydenhamfieldnaturalists.ca
SUMMARY:Swallow Nesting Colony
DESCRIPTION:Meet at 10 am at Ron and Linda Core’s farm (4082 Confederation Line east of Mandaumin) to observe bank swallows\, a species at risk\, as they enter and leave their nests to feed their young. Ron refaces the bank every spring so the swallows can excavate new nests. Bring your binoculars. Ron will also take us on a hike on their nature trail to view wildflowers and trees.
URL:https://sydenhamfieldnaturalists.ca/event/swallow-nesting-colony/
LOCATION:Core Farm\, 4082 Confederation Line\, Wyoming\, On\, N0N 1T0\, Canada
ATTACH;FMTTYPE=image/png:https://sydenhamfieldnaturalists.ca/wp-content/uploads/2018/06/swallownesting-400px.png
END:VEVENT
BEGIN:VEVENT
DTSTART;TZID=America/Toronto:20180519T090000
DTEND;TZID=America/Toronto:20180519T130000
DTSTAMP:20260421T120404
CREATED:20170901T120540Z
LAST-MODIFIED:20170909T191846Z
UID:1017-1526720400-1526734800@sydenhamfieldnaturalists.ca
SUMMARY:Annual Native Plant Sale
DESCRIPTION:Garden in Harmony with Nature. Plant sale 9 am – 1 pm. Located at Peers Wetland\, 29644 Kimball Side Rd. Come early – plants sell fast. Tour Peers Wetland while you are there and discover its biodiversity.\nInquiries: Larry Cornelis 519-626-9591 and Tom Chatterton 519-627-2986
URL:https://sydenhamfieldnaturalists.ca/event/annual-native-plant-sale-2/
LOCATION:Peers Wetland\, 29644 Kimball Rd\, Wallaceburg\, Ontario\, N8A 4L1\, Canada
ATTACH;FMTTYPE=image/png:https://sydenhamfieldnaturalists.ca/wp-content/uploads/2017/09/plant-sale-circle-400px.png
END:VEVENT
BEGIN:VEVENT
DTSTART;TZID=America/Toronto:20180505T100000
DTEND;TZID=America/Toronto:20180505T140000
DTSTAMP:20260421T120404
CREATED:20170901T120422Z
LAST-MODIFIED:20170909T192248Z
UID:1015-1525514400-1525528800@sydenhamfieldnaturalists.ca
SUMMARY:Sydenham River Nature Reserve Spring Walk
DESCRIPTION:Meet at 10 am at the south entrance on Oil Springs Line\, 1km east of Nauvoo Road. Witness the splendour of spring in all its beauty.
URL:https://sydenhamfieldnaturalists.ca/event/sydenham-river-nature-reserve-spring-walk/
LOCATION:Sydenham River Nature Reserve\, 2740 Buttonwood Dr\, Glencoe\, ON\, N0L 1M0\, Canada
ATTACH;FMTTYPE=image/png:https://sydenhamfieldnaturalists.ca/wp-content/uploads/2017/09/sydenham-400px.png
END:VEVENT
BEGIN:VEVENT
DTSTART;TZID=America/Toronto:20180426T190000
DTEND;TZID=America/Toronto:20180426T203000
DTSTAMP:20260421T120404
CREATED:20180310T215215Z
LAST-MODIFIED:20180310T215215Z
UID:1260-1524769200-1524774600@sydenhamfieldnaturalists.ca
SUMMARY:Nature in Chatham-Kent Speaker Series - Night 4 - Larry Cornelis
DESCRIPTION:We invite all to attend each evening of this exciting speaker series being presented by Sydenham Field Naturalists and hosted by Chatham-Kent Public Library in Chatham. Each presenter is sure to appeal to what you would like to learn more about the nature in Chatham-Kent.
URL:https://sydenhamfieldnaturalists.ca/event/nature-in-chatham-kent-speaker-series-night-4-larry-cornelis/
LOCATION:Chatham-Kent Public Library\, 120 Queen St\, Chatham\, ON\, N7M 2G6\, Canada
ATTACH;FMTTYPE=image/png:https://sydenhamfieldnaturalists.ca/wp-content/uploads/2018/03/librarynight4.png
END:VEVENT
BEGIN:VEVENT
DTSTART;TZID=America/Toronto:20180421T100000
DTEND;TZID=America/Toronto:20180421T130000
DTSTAMP:20260421T120404
CREATED:20170901T115636Z
LAST-MODIFIED:20180612T030645Z
UID:1012-1524304800-1524315600@sydenhamfieldnaturalists.ca
SUMMARY:Rowsom’s Tilbury West Conservation Area
DESCRIPTION:Meet at 10 am at the conservation area 15172 S. Middle Road\, Lakeshore. Join us on the trails through various habitats on this 25 hectare (61 acre) property of the Lower Thames Valley Conservation Authority. Pack a lunch if you wish.\nInquiries: Larry Cornelis (519-626-9591)
URL:https://sydenhamfieldnaturalists.ca/event/rowsoms-tilbury-west-conservation-area/
LOCATION:Rowsom’s Tilbury West Conservation Area\, 15172 S. Middle Road\, Town of Lakeshore\, On\, N0P 1J0\, Canada
ATTACH;FMTTYPE=image/png:https://sydenhamfieldnaturalists.ca/wp-content/uploads/2018/06/rowsom-400px.png
END:VEVENT
BEGIN:VEVENT
DTSTART;TZID=America/Toronto:20180404T180000
DTEND;TZID=America/Toronto:20180404T220000
DTSTAMP:20260421T120404
CREATED:20170901T123113Z
LAST-MODIFIED:20180322T160601Z
UID:1043-1522864800-1522879200@sydenhamfieldnaturalists.ca
SUMMARY:Annual Banquet 2018
DESCRIPTION:Annual Dinner\, Country View Golf Course\nDoors open 6 pm. Buffet dinner 6:30 pm\nTickets in advance only.\nThe Return of the Bald Eagle\nGuest Speaker – Phil Roberts\, one of our most popular presenters in 32 years\, is returning. Hear of the recovery efforts of these magnificent raptors.\nContact: Larry Cornelis (519) 626-9591 or email larry.cornelis@gmail.com
URL:https://sydenhamfieldnaturalists.ca/event/annual-banquet-2018/
LOCATION:Country View Golf Course\, 25393 St Clair Rd\, Dover Centre\, On\, N0P 1L0\, Canada
ATTACH;FMTTYPE=image/png:https://sydenhamfieldnaturalists.ca/wp-content/uploads/2017/07/banquet-circle-400-px.png
END:VEVENT
BEGIN:VEVENT
DTSTART;TZID=America/Toronto:20180329T190000
DTEND;TZID=America/Toronto:20180329T203000
DTSTAMP:20260421T120404
CREATED:20180310T214954Z
LAST-MODIFIED:20180322T155958Z
UID:1257-1522350000-1522355400@sydenhamfieldnaturalists.ca
SUMMARY:Nature in Chatham-Kent Speaker Series - Night 3 - Stan Caveney
DESCRIPTION:We invite all to attend each evening of this exciting speaker series being presented by Sydenham Field Naturalists and hosted by Chatham-Kent Public Library in Chatham. Each presenter is sure to appeal to what you would like to learn more about the nature in Chatham-Kent.
URL:https://sydenhamfieldnaturalists.ca/event/nature-in-chatham-kent-speaker-series-night-3-stan-caveney/
LOCATION:Chatham-Kent Public Library\, 120 Queen St\, Chatham\, ON\, N7M 2G6\, Canada
ATTACH;FMTTYPE=image/png:https://sydenhamfieldnaturalists.ca/wp-content/uploads/2018/03/librarynight3.png
END:VEVENT
BEGIN:VEVENT
DTSTART;TZID=America/Toronto:20180307T193000
DTEND;TZID=America/Toronto:20180307T213000
DTSTAMP:20260421T120404
CREATED:20170901T122744Z
LAST-MODIFIED:20170909T192540Z
UID:1041-1520451000-1520458200@sydenhamfieldnaturalists.ca
SUMMARY:Raising The Ecological Bar
DESCRIPTION:Past President\, Larry Cornelis\, will guide us on how to create a naturalized garden that will raise the ecological values of our home landscapes. Learn about the best species of plants to attract\, benefit and support wildlife. Even native species aren’t all equal in their abilities to support nature.
URL:https://sydenhamfieldnaturalists.ca/event/raising-ecological-bar/
LOCATION:Wallaceburg Municipal Service Centre\, 786 Dufferein Ave\, Wallaceburg\, Ontario\, N8A 2V3\, Canada
ATTACH;FMTTYPE=image/png:https://sydenhamfieldnaturalists.ca/wp-content/uploads/2017/09/ecologicalgarden-400px.png
END:VEVENT
BEGIN:VEVENT
DTSTART;TZID=America/Toronto:20180222T190000
DTEND;TZID=America/Toronto:20180222T203000
DTSTAMP:20260421T120404
CREATED:20180118T162355Z
LAST-MODIFIED:20180310T214432Z
UID:1203-1519326000-1519331400@sydenhamfieldnaturalists.ca
SUMMARY:Nature in Chatham-Kent Speaker Series - Night 2 - Paul Pratt
DESCRIPTION:We invite all to attend each evening of this exciting speaker series being presented by Sydenham Field Naturalists and hosted by Chatham-Kent Public Library in Chatham. Each presenter is sure to appeal to what you would like to learn more about the nature in Chatham-Kent.
URL:https://sydenhamfieldnaturalists.ca/event/nature-chatham-kent-speaker-series/
LOCATION:Chatham-Kent Public Library\, 120 Queen St\, Chatham\, ON\, N7M 2G6\, Canada
ATTACH;FMTTYPE=image/png:https://sydenhamfieldnaturalists.ca/wp-content/uploads/2018/01/librarynight2.png
END:VEVENT
BEGIN:VEVENT
DTSTART;TZID=America/Toronto:20180211T100000
DTEND;TZID=America/Toronto:20180211T130000
DTSTAMP:20260421T120404
CREATED:20170901T115332Z
LAST-MODIFIED:20180209T161531Z
UID:1010-1518343200-1518354000@sydenhamfieldnaturalists.ca
SUMMARY:Bickford Oak Woods Winter Walk
DESCRIPTION:RESCHEDULED We are now rescheduling this event to Sunday (Feb. 11). We will meet at the corner of Hwy. 40 and Bickford Line at 10 a.m. We will be cleaning out and repairing wood duck boxes as well as seeing a beaver lodge and other interesting nature features at their winter best. Bring the family and lunch if you wish. Hot chocolate and cookies to follow. This is a great mid winter outing.
URL:https://sydenhamfieldnaturalists.ca/event/bickford-oak-woods-winter-walk-2/
LOCATION:Bickford Oak Woods\, 701 Bickford Line\, Sombra\, Ontario\, N0P 2H0\, Canada
ATTACH;FMTTYPE=image/png:https://sydenhamfieldnaturalists.ca/wp-content/uploads/2017/09/bickford-400px.png
END:VEVENT
BEGIN:VEVENT
DTSTART;TZID=America/Toronto:20180207T193000
DTEND;TZID=America/Toronto:20180207T213000
DTSTAMP:20260421T120404
CREATED:20170901T122637Z
LAST-MODIFIED:20180310T215328Z
UID:1039-1518031800-1518039000@sydenhamfieldnaturalists.ca
SUMMARY:Birds in Action
DESCRIPTION:Butch Dompierre is a SFN member and one of the best wildlife photographers in this area. At the end of every weekend\, Butch puts his ‘Sunday Evening Post’ on his blog showing some of his best shots of the week. His action photos are exceptional as he will show in this illustrated presentation.
URL:https://sydenhamfieldnaturalists.ca/event/birds-in-action/
LOCATION:Wallaceburg Municipal Service Centre\, 786 Dufferein Ave\, Wallaceburg\, Ontario\, N8A 2V3\, Canada
ATTACH;FMTTYPE=image/png:https://sydenhamfieldnaturalists.ca/wp-content/uploads/2017/09/birdsaction2-400px.png
END:VEVENT
BEGIN:VEVENT
DTSTART;TZID=America/Toronto:20180125T190000
DTEND;TZID=America/Toronto:20180125T203000
DTSTAMP:20260421T120404
CREATED:20180310T214719Z
LAST-MODIFIED:20180310T214719Z
UID:1254-1516906800-1516912200@sydenhamfieldnaturalists.ca
SUMMARY:Nature in Chatham-Kent Speaker Series - Night 1 - Allen Woodliffe
DESCRIPTION:We invite all to attend each evening of this exciting speaker series being presented by Sydenham Field Naturalists and hosted by Chatham-Kent Public Library in Chatham. Each presenter is sure to appeal to what you would like to learn more about the nature in Chatham-Kent. \n \n 
URL:https://sydenhamfieldnaturalists.ca/event/nature-in-chatham-kent-speaker-series-night-1-allen-woodliffe/
LOCATION:Chatham-Kent Public Library\, 120 Queen St\, Chatham\, ON\, N7M 2G6\, Canada
ATTACH;FMTTYPE=image/png:https://sydenhamfieldnaturalists.ca/wp-content/uploads/2018/03/librarynight1.png
END:VEVENT
BEGIN:VEVENT
DTSTART;TZID=America/Toronto:20180103T193000
DTEND;TZID=America/Toronto:20180103T213000
DTSTAMP:20260421T120404
CREATED:20170901T122528Z
LAST-MODIFIED:20170909T230433Z
UID:1037-1515007800-1515015000@sydenhamfieldnaturalists.ca
SUMMARY:Members’ Night
DESCRIPTION:All SFN members are welcome to share their nature-related pictures\, items and stories in brief presentations. Contact Tom Chatterton 519-627-2986.
URL:https://sydenhamfieldnaturalists.ca/event/members-night-2/
LOCATION:Wallaceburg Municipal Service Centre\, 786 Dufferein Ave\, Wallaceburg\, Ontario\, N8A 2V3\, Canada
ATTACH;FMTTYPE=image/png:https://sydenhamfieldnaturalists.ca/wp-content/uploads/2017/09/members2-400px.png
END:VEVENT
END:VCALENDAR